BEGIN:VCALENDAR
VERSION:2.0
PRODID:-//BSides Global Community - ECPv6.15.20//NONSGML v1.0//EN
CALSCALE:GREGORIAN
METHOD:PUBLISH
X-WR-CALNAME:BSides Global Community
X-ORIGINAL-URL:https://bsides.org
X-WR-CALDESC:Events for BSides Global Community
REFRESH-INTERVAL;VALUE=DURATION:PT1H
X-Robots-Tag:noindex
X-PUBLISHED-TTL:PT1H
BEGIN:VTIMEZONE
TZID:UTC
BEGIN:STANDARD
TZOFFSETFROM:+0000
TZOFFSETTO:+0000
TZNAME:UTC
DTSTART:20250101T000000
END:STANDARD
END:VTIMEZONE
BEGIN:VEVENT
DTSTART;VALUE=DATE:20260421
DTEND;VALUE=DATE:20260425
DTSTAMP:20260422T012547
CREATED:20250824T223443Z
LAST-MODIFIED:20251230T123129Z
UID:1617-1776729600-1777075199@bsides.org
SUMMARY:BSidesPrague
DESCRIPTION:Conference days: April 23–24 \n\n\nWorkshop days: April 21–22
URL:https://bsides.org/event/bsidesprague-2/
END:VEVENT
BEGIN:VEVENT
DTSTART;VALUE=DATE:20260422
DTEND;VALUE=DATE:20260426
DTSTAMP:20260422T012547
CREATED:20260304T181236Z
LAST-MODIFIED:20260304T181236Z
UID:2260-1776816000-1777161599@bsides.org
SUMMARY:BSides Colombia
DESCRIPTION:This year\, we will start our BSides Colombia with two days of training that will be held on April 22 and 23\, and then\, the main event will be April 24 and 25.\n\nWe are trying to move the event around Colombia\, and this year we will be doing the event at Pereira\, the main city of the coffee region in the country.
URL:https://bsides.org/event/bsides-colombia/
END:VEVENT
END:VCALENDAR